BEGIN:VCALENDAR
VERSION:2.0
PRODID:Glen Waverley Football Netball Club
CALSCALE:GREGORIAN
BEGIN:VEVENT
DTSTAMP:20210228T131752Z
UID:f7f00f83-6255-4f54-9bc1-edef3c039c54
DTSTART:20201111T080000Z
DESCRIPTION:Annual General Meeting for the Glen Waverley Football Netball C
 lub - ABN : 77 849 511 728Glen Waverley Football Netball Club - Association
  Number A0046831ZGlen Waverley Junior Football Club - Association Number A0
 046869BThank you for your attendance at the Annual General Meeting for 2020
 .  The Official notification was delivered via way of copy of the  official
  club website\, Facebook and the emailed to the current members and Life Me
 mbers list on 10th October 2020.
LOCATION:AGM via ZOOM Meeting
SUMMARY:Annual General Meeting
URL:https://glenwaverleyfnc.com.au/public/schedule/meetings/ed82ae59d5ba664
 6
END:VEVENT
BEGIN:VEVENT
DTSTAMP:20210228T131752Z
UID:7133cfb8-538b-4c43-a87b-b041c174e6c2
DTSTART:20200120T084500Z
DESCRIPTION:To update the Constitution (Currently being the Associations In
 corporation Act (1981) Model Rules of Association) of the Glen Waverley Haw
 ks Senior Football Club Incorporated No. A0046831Z and the Constitution (Cu
 rrently being the Associations Incorporation Reform Act (2012) Model Rules 
 for an incorporated Association) of the Glen Waverley Hawks Junior Football
  Club Incorporated No. A0046869B.
LOCATION:Glen Waverley Hawks Football Club\, Central Reserve\,\, Springvale
  Rd\, Glen Waverley VIC 3150\, Australia
SUMMARY:Special General Meeting
URL:https://glenwaverleyfnc.com.au/public/schedule/meetings/4e57f8e97f68ac9
 8
END:VEVENT
BEGIN:VEVENT
DTSTAMP:20210228T131752Z
UID:91521223-1580-4ed7-a6d7-5b33cd4eaba8
DTSTART:20191106T080000Z
DESCRIPTION:Annual General Meeting for the Glen Waverley Hawks Football Clu
 b - ABN : 77 849 511 728Glen Waverley Hawks Senior Football Club - Associat
 ion Number A0046831ZGlen Waverley Hawks Junior Football Club - Association 
 Number A0046869BThank you for your attendance at the Annual General Meeting
  for 2019.  The Official notification was delivered via way of copy of the 
  official club website\, Facebook and the emailed to the current members an
 d Life Members list on 9th September 2019.
LOCATION:Mountain View Hotel\, Function Room (downstaris)186 Springvale Roa
 d\,Glen Waverley.  VIC. 3150
SUMMARY:Annual General Meeting
URL:https://glenwaverleyfnc.com.au/public/schedule/meetings/5f91e5903471229
 8
END:VEVENT
BEGIN:VEVENT
DTSTAMP:20210228T131752Z
UID:fb6a3145-d414-4268-96d1-9f582950fe81
DTSTART:20181024T080000Z
DESCRIPTION:Annual General Meeting for the Glen Waverley Hawks Football Clu
 b - ABN : 77 849 511 728Glen Waverley Hawks Senior Football Club - Associat
 ion Number A0046831ZGlen Waverley Hawks Junior Football Club - Association 
 Number A0046869BThank you for your attendance at the Annual General Meeting
  for 2018.  The Official notification was delivered via way of copy of the 
  official club website\, Facebook and the emailed to the current members an
 d Life Members list on 13th September 2018.
LOCATION:Mountain View Hotel\, Function Room (downstaris)186 Springvale Roa
 d\,Glen Waverley.  VIC. 3150
SUMMARY:Annual General Meeting
URL:https://glenwaverleyfnc.com.au/public/schedule/meetings/9c6298d65e54123
 6
END:VEVENT
BEGIN:VEVENT
DTSTAMP:20210228T131752Z
UID:dfebbbb2-c070-45ff-be46-3ecb84ed79c3
DTSTART:20170920T090000Z
DESCRIPTION:Annual General Meeting for the Glen Waverley Hawks Football Clu
 b - ABN : 77 849 511 728Glen Waverley Hawks Senior Football Club - Associat
 ion Number A0046831ZGlen Waverley Hawks Junior Football Club - Association 
 Number A0046869BThank you for your attendance at the Annual General Meeting
  for 2017.  The Official notification was delivered via way of copy of the 
 SGM minutes on 25th July 2017\, official club website\, Facebook and the em
 ailed to the current members and Life Members list on 14th August 2017.
LOCATION:Mountain View Hotel\, Function Room (downstaris)186 Springvale Roa
 d\,Glen Waverley.  VIC. 3150
SUMMARY:Annual General Meeting
URL:https://glenwaverleyfnc.com.au/public/schedule/meetings/eb917b49b5d3055
 3
END:VEVENT
BEGIN:VEVENT
DTSTAMP:20210228T131752Z
UID:f2a02481-8db4-4c7f-9e7e-91e56b67d4ba
DTSTART:20161011T080000Z
DESCRIPTION:
LOCATION:Mountain View Hotel\, Private Function Room
SUMMARY:Annual General Meeting
URL:https://glenwaverleyfnc.com.au/public/schedule/meetings/apbMW3A
END:VEVENT
END:VCALENDAR
